BEGIN:VCALENDAR
VERSION:2.0
PRODID:-//eventon.com NONSGML v1.0//EN
CALSCALE:GREGORIAN
METHOD:PUBLISH
BEGIN:VEVENT
UID:69ed84979fd35
DTSTAMP:20260426T032055Z
DTSTART:20240907T070000Z
DTEND:20240907T150000Z
LOCATION:
SUMMARY:34. DWZ-Cup Wilstermarsch und Itzehoe
DESCRIPTION:34. DWZ-Cup Wilstermarsch und Itzehoe\nhttps://schachnewsletter
 -bremen.de/events/34-dwz-cup-wilstermarsch-und-itzehoe/
URL:https://schachnewsletter-bremen.de/events/34-dwz-cup-wilstermarsch-und-itzehoe/
END:VEVENT
END:VCALENDAR