BEGIN:VCALENDAR
VERSION:2.0
PRODID:-//eventon.com NONSGML v1.0//EN
CALSCALE:GREGORIAN
METHOD:PUBLISH
BEGIN:VEVENT
UID:69e74553d9a20
DTSTAMP:20260421T093723Z
DTSTART:20241102T080000Z
DTEND:20241102T160000Z
LOCATION:
SUMMARY:35. DWZ-Cup Wilstermarsch und Itzehoe
DESCRIPTION:35. DWZ-Cup Wilstermarsch und Itzehoe\nhttps://schachnewsletter
 -bremen.de/events/35-dwz-cup-wilstermarsch-und-itzehoe/
URL:https://schachnewsletter-bremen.de/events/35-dwz-cup-wilstermarsch-und-itzehoe/
END:VEVENT
END:VCALENDAR