BEGIN:VCALENDAR
VERSION:2.0
PRODID:-//eventon.com NONSGML v1.0//EN
CALSCALE:GREGORIAN
METHOD:PUBLISH
BEGIN:VEVENT
UID:69e7451187357
DTSTAMP:20260421T093617Z
DTSTART:20240828T140000Z
DTEND:20240828T160000Z
LOCATION:
SUMMARY:Rapid Chess Turnierserie im Freizi Leherheide
DESCRIPTION:Rapid Chess Turnierserie im Freizi Leherheide\nhttps://schachne
 wsletter-bremen.de/events/rapid-chess-turnierserie-im-freizi-leherheide-6/
URL:https://schachnewsletter-bremen.de/events/rapid-chess-turnierserie-im-freizi-leherheide-6/
END:VEVENT
END:VCALENDAR