BEGIN:VCALENDAR
VERSION:2.0
PRODID:-//eventon.com NONSGML v1.0//EN
CALSCALE:GREGORIAN
METHOD:PUBLISH
BEGIN:VEVENT
UID:69e746661907f
DTSTAMP:20260421T094158Z
DTSTART:20240613T170000Z
DTEND:20240613T200000Z
LOCATION:
SUMMARY:Werder-Frühlings-Open 2024\,  7. & letzter Spieltag
DESCRIPTION:Werder-Frühlings-Open 2024\,  7. & letzter Spieltag\nhttps://s
 chachnewsletter-bremen.de/events/werder-fruehlings-open-2024-7-letzter-spie
 ltag/
URL:https://schachnewsletter-bremen.de/events/werder-fruehlings-open-2024-7-letzter-spieltag/
END:VEVENT
END:VCALENDAR