BEGIN:VCALENDAR
VERSION:2.0
PRODID:-//eventon.com NONSGML v1.0//EN
CALSCALE:GREGORIAN
METHOD:PUBLISH
BEGIN:VEVENT
UID:69e7642ee5d3f
DTSTAMP:20260421T114902Z
DTSTART:20240607T080000Z
DTEND:20240610T160000Z
LOCATION:
SUMMARY:Deutsche Schulschachmeisterschaft\,  WK G M
DESCRIPTION:Deutsche Schulschachmeisterschaft\,  WK G M\nhttps://schachnews
 letter-bremen.de/events/deutsche-schulschachmeisterschaft-wk-g-m/
URL:https://schachnewsletter-bremen.de/events/deutsche-schulschachmeisterschaft-wk-g-m/
END:VEVENT
END:VCALENDAR