BEGIN:VCALENDAR
VERSION:2.0
PRODID:-//eventon.com NONSGML v1.0//EN
CALSCALE:GREGORIAN
METHOD:PUBLISH
BEGIN:VEVENT
UID:69e74520b3abe
DTSTAMP:20260421T093632Z
DTSTART:20240720T110000Z
DTEND:20240726T140000Z
LOCATION:
SUMMARY:2. Lehrter Comitec-Open
DESCRIPTION:2. Lehrter Comitec-Open\nhttps://schachnewsletter-bremen.de/eve
 nts/2-lehrter-comitec-open/
URL:https://schachnewsletter-bremen.de/events/2-lehrter-comitec-open/
END:VEVENT
END:VCALENDAR