BEGIN:VCALENDAR
VERSION:2.0
PRODID:-//eventon.com NONSGML v1.0//EN
CALSCALE:GREGORIAN
METHOD:PUBLISH
BEGIN:VEVENT
UID:69e573119aa54
DTSTAMP:20260420T002801Z
DTSTART:20240728T080000Z
DTEND:20240803T130000Z
LOCATION:
SUMMARY:DSJ Sommercamp
DESCRIPTION:DSJ Sommercamp\nhttps://schachnewsletter-bremen.de/events/dsj-s
 ommercamp/
URL:https://schachnewsletter-bremen.de/events/dsj-sommercamp/
END:VEVENT
END:VCALENDAR