BEGIN:VCALENDAR
VERSION:2.0
PRODID:-//eventon.com NONSGML v1.0//EN
CALSCALE:GREGORIAN
METHOD:PUBLISH
BEGIN:VEVENT
UID:69e89f2346f79
DTSTAMP:20260422T101251Z
DTSTART:20240616T070000Z
DTEND:20240616T150000Z
LOCATION:
SUMMARY:1. Hildesheimer Domröschencup für Jugendmannschaften (U20) - Tag 2
DESCRIPTION:1. Hildesheimer Domröschencup für Jugendmannschaften (U20) - 
 Tag 2\nhttps://schachnewsletter-bremen.de/events/1-hildesheimer-domroeschen
 cup-fuer-jugendmannschaften-u20-tag-2/
URL:https://schachnewsletter-bremen.de/events/1-hildesheimer-domroeschencup-fuer-jugendmannschaften-u20-tag-2/
END:VEVENT
END:VCALENDAR