BEGIN:VCALENDAR
VERSION:2.0
PRODID:-//eventon.com NONSGML v1.0//EN
CALSCALE:GREGORIAN
METHOD:PUBLISH
BEGIN:VEVENT
UID:69e744a9614d2
DTSTAMP:20260421T093433Z
DTSTART:20240607T160000Z
DTEND:20240609T180000Z
LOCATION:
SUMMARY:Pokalmannschaftsmeisterschaft Spielgemeinschaft Bremen-Niedersachsen
DESCRIPTION:Pokalmannschaftsmeisterschaft Spielgemeinschaft Bremen-Niedersa
 chsen\nhttps://schachnewsletter-bremen.de/events/pokalmannschaftsmeistersch
 aft-spielgemeinschaft-bremen-niedersachsen/
URL:https://schachnewsletter-bremen.de/events/pokalmannschaftsmeisterschaft-spielgemeinschaft-bremen-niedersachsen/
END:VEVENT
END:VCALENDAR