BEGIN:VCALENDAR
VERSION:2.0
PRODID:-//eventon.com NONSGML v1.0//EN
CALSCALE:GREGORIAN
METHOD:PUBLISH
BEGIN:VEVENT
UID:69e7455f96fd3
DTSTAMP:20260421T093735Z
DTSTART:20240628T170000Z
DTEND:20240630T170000Z
LOCATION:
SUMMARY:Offene Frauenlandesmeisterschaft von Schleswig-Holstein 2024
DESCRIPTION:Offene Frauenlandesmeisterschaft von Schleswig-Holstein 2024\nh
 ttps://schachnewsletter-bremen.de/events/offene-frauenlandesmeisterschaft-v
 on-schleswig-holstein-2024/
URL:https://schachnewsletter-bremen.de/events/offene-frauenlandesmeisterschaft-von-schleswig-holstein-2024/
END:VEVENT
END:VCALENDAR