BEGIN:VCALENDAR
VERSION:2.0
PRODID:-//eventon.com NONSGML v1.0//EN
CALSCALE:GREGORIAN
METHOD:PUBLISH
BEGIN:VEVENT
UID:69ea9d1bd9c85
DTSTAMP:20260423T222843Z
DTSTART:20240727T100000Z
DTEND:20240802T180000Z
LOCATION:
SUMMARY:36. Kieler Open
DESCRIPTION:36. Kieler Open\nhttps://schachnewsletter-bremen.de/events/36-k
 ieler-open/
URL:https://schachnewsletter-bremen.de/events/36-kieler-open/
END:VEVENT
END:VCALENDAR