BEGIN:VCALENDAR
VERSION:2.0
PRODID:-//eventon.com NONSGML v1.0//EN
CALSCALE:GREGORIAN
METHOD:PUBLISH
BEGIN:VEVENT
UID:69e7449fef74b
DTSTAMP:20260421T093423Z
DTSTART:20240615T080000Z
DTEND:20240615T170100Z
LOCATION:
SUMMARY:Peter-Dankert-Turnier: Offene Hamburger Schnellschachmeisterschaft 2024
DESCRIPTION:Peter-Dankert-Turnier: Offene Hamburger Schnellschachmeistersch
 aft 2024\nhttps://schachnewsletter-bremen.de/events/peter-dankert-turnier-o
 ffene-hamburger-schnellschachmeisterschaft-2024/
URL:https://schachnewsletter-bremen.de/events/peter-dankert-turnier-offene-hamburger-schnellschachmeisterschaft-2024/
END:VEVENT
END:VCALENDAR