BEGIN:VCALENDAR
VERSION:2.0
PRODID:-//eventon.com NONSGML v1.0//EN
CALSCALE:GREGORIAN
METHOD:PUBLISH
BEGIN:VEVENT
UID:69e740fd55e9e
DTSTAMP:20260421T091853Z
DTSTART:20240803T060000Z
DTEND:20240811T180000Z
LOCATION:
SUMMARY:RTU Open in Riga
DESCRIPTION:RTU Open in Riga\nhttps://schachnewsletter-bremen.de/events/rtu
 -open-in-riga/
URL:https://schachnewsletter-bremen.de/events/rtu-open-in-riga/
END:VEVENT
END:VCALENDAR