BEGIN:VCALENDAR
VERSION:2.0
PRODID:-//eventon.com NONSGML v1.0//EN
CALSCALE:GREGORIAN
METHOD:PUBLISH
BEGIN:VEVENT
UID:69e74910ad130
DTSTAMP:20260421T095320Z
DTSTART:20240712T160000Z
DTEND:20240714T170000Z
LOCATION:
SUMMARY:4. Kieler Wochenendturnier
DESCRIPTION:4. Kieler Wochenendturnier\nhttps://schachnewsletter-bremen.de/
 events/4-kieler-wochenendturnier/
URL:https://schachnewsletter-bremen.de/events/4-kieler-wochenendturnier/
END:VEVENT
END:VCALENDAR