BEGIN:VCALENDAR
VERSION:2.0
PRODID:-//eventon.com NONSGML v1.0//EN
CALSCALE:GREGORIAN
METHOD:PUBLISH
BEGIN:VEVENT
UID:69e744a9699d0
DTSTAMP:20260421T093433Z
DTSTART:20241227T090000Z
DTEND:20241230T170000Z
LOCATION:
SUMMARY:9. Internationales Bad Schwartauer Schachopen
DESCRIPTION:9. Internationales Bad Schwartauer Schachopen\nhttps://schachne
 wsletter-bremen.de/events/9-internationales-bad-schwartauer-schachopen/
URL:https://schachnewsletter-bremen.de/events/9-internationales-bad-schwartauer-schachopen/
END:VEVENT
END:VCALENDAR