BEGIN:VCALENDAR
VERSION:2.0
PRODID:-//eventon.com NONSGML v1.0//EN
CALSCALE:GREGORIAN
METHOD:PUBLISH
BEGIN:VEVENT
UID:69e7413cb7bf7
DTSTAMP:20260421T091956Z
DTSTART:20240929T080000Z
DTEND:20240929T143000Z
LOCATION:
SUMMARY:31. Mädchenschachturnier in Spelle
DESCRIPTION:31. Mädchenschachturnier in Spelle\nhttps://schachnewsletter-b
 remen.de/events/31-maedchenschachturnier-in-spelle/
URL:https://schachnewsletter-bremen.de/events/31-maedchenschachturnier-in-spelle/
END:VEVENT
END:VCALENDAR