BEGIN:VCALENDAR
VERSION:2.0
PRODID:-//eventon.com NONSGML v1.0//EN
CALSCALE:GREGORIAN
METHOD:PUBLISH
BEGIN:VEVENT
UID:69e74082de4fd
DTSTAMP:20260421T091650Z
DTSTART:20250712T080000Z
DTEND:20250712T143000Z
LOCATION:
SUMMARY:11. Blankeneser Jugend Pokal
DESCRIPTION:11. Blankeneser Jugend Pokal\nhttps://schachnewsletter-bremen.d
 e/events/7-blankeneser-jugend-pokal/
URL:https://schachnewsletter-bremen.de/events/7-blankeneser-jugend-pokal/
END:VEVENT
END:VCALENDAR