BEGIN:VCALENDAR
VERSION:2.0
PRODID:-//eventon.com NONSGML v1.0//EN
CALSCALE:GREGORIAN
METHOD:PUBLISH
BEGIN:VEVENT
UID:69e7447ad239a
DTSTAMP:20260421T093346Z
DTSTART:20240615T140000Z
DTEND:20240615T160000Z
LOCATION:
SUMMARY:Hamburger Frauen Blitzschach-Einzelmeisterschaft 2024
DESCRIPTION:Hamburger Frauen Blitzschach-Einzelmeisterschaft 2024\nhttps://
 schachnewsletter-bremen.de/events/hamburger-frauen-blitzschach-einzelmeiste
 rschaft-2024/
URL:https://schachnewsletter-bremen.de/events/hamburger-frauen-blitzschach-einzelmeisterschaft-2024/
END:VEVENT
END:VCALENDAR