BEGIN:VCALENDAR
VERSION:2.0
PRODID:-//eventon.com NONSGML v1.0//EN
CALSCALE:GREGORIAN
METHOD:PUBLISH
BEGIN:VEVENT
UID:69e747ca25863
DTSTAMP:20260421T094754Z
DTSTART:20250905T153000Z
DTEND:20250907T180000Z
LOCATION:
SUMMARY:7. Offene Bargteheider Stadtmeisterschaft
DESCRIPTION:7. Offene Bargteheider Stadtmeisterschaft\nhttps://schachnewsle
 tter-bremen.de/events/6-offene-bargteheider-stadtmeisterschaft/
URL:https://schachnewsletter-bremen.de/events/6-offene-bargteheider-stadtmeisterschaft/
END:VEVENT
END:VCALENDAR