BEGIN:VCALENDAR
VERSION:2.0
PRODID:-//eventon.com NONSGML v1.0//EN
CALSCALE:GREGORIAN
METHOD:PUBLISH
BEGIN:VEVENT
UID:69e7449e0fbba
DTSTAMP:20260421T093422Z
DTSTART:20240629T080000Z
DTEND:20240629T160000Z
LOCATION:
SUMMARY:36. Offene Buxtehuder Schach - Stadtmeisterschaft
DESCRIPTION:36. Offene Buxtehuder Schach - Stadtmeisterschaft\nhttps://scha
 chnewsletter-bremen.de/events/36-offene-buxtehuder-schach-stadtmeisterschaf
 t/
URL:https://schachnewsletter-bremen.de/events/36-offene-buxtehuder-schach-stadtmeisterschaft/
END:VEVENT
END:VCALENDAR