BEGIN:VCALENDAR
VERSION:2.0
PRODID:-//eventon.com NONSGML v1.0//EN
CALSCALE:GREGORIAN
METHOD:PUBLISH
BEGIN:VEVENT
UID:69e77fee83034
DTSTAMP:20260421T134726Z
DTSTART:20240622T090000Z
DTEND:20240622T140000Z
LOCATION:
SUMMARY:Elbinsel-Pokal 2024
DESCRIPTION:Elbinsel-Pokal 2024\nhttps://schachnewsletter-bremen.de/events/
 elbinsel-pokal-2024/
URL:https://schachnewsletter-bremen.de/events/elbinsel-pokal-2024/
END:VEVENT
END:VCALENDAR