BEGIN:VCALENDAR
VERSION:2.0
PRODID:-//eventon.com NONSGML v1.0//EN
CALSCALE:GREGORIAN
METHOD:PUBLISH
BEGIN:VEVENT
UID:69e744a3c5743
DTSTAMP:20260421T093427Z
DTSTART:20250618T143000Z
DTEND:20250618T163000Z
LOCATION:
SUMMARY:Open-Air-Blitzschach im Biergarten - Turnier für Kinder und Jugendliche bis 1299 DWZ
DESCRIPTION:Open-Air-Blitzschach im Biergarten - Turnier für Kinder und Ju
 gendliche bis 1299 DWZ\nhttps://schachnewsletter-bremen.de/events/open-air-
 blitzschach-im-biergarten-turnier-fuer-kinder-und-jugendliche-bis-1299-dwz/
URL:https://schachnewsletter-bremen.de/events/open-air-blitzschach-im-biergarten-turnier-fuer-kinder-und-jugendliche-bis-1299-dwz/
END:VEVENT
END:VCALENDAR