BEGIN:VCALENDAR
VERSION:2.0
PRODID:-//eventon.com NONSGML v1.0//EN
CALSCALE:GREGORIAN
METHOD:PUBLISH
BEGIN:VEVENT
UID:69e749980b7e0
DTSTAMP:20260421T095536Z
DTSTART:20250817T073000Z
DTEND:20250817T190000Z
LOCATION:
SUMMARY:QuickStep-Chess Turnier des SV Werder Bremen
DESCRIPTION:QuickStep-Chess Turnier des SV Werder Bremen\nhttps://schachnew
 sletter-bremen.de/events/quickstep-chess-turnier-des-sv-werder-bremen/
URL:https://schachnewsletter-bremen.de/events/quickstep-chess-turnier-des-sv-werder-bremen/
END:VEVENT
END:VCALENDAR