BEGIN:VCALENDAR
VERSION:2.0
PRODID:-//eventon.com NONSGML v1.0//EN
CALSCALE:GREGORIAN
METHOD:PUBLISH
BEGIN:VEVENT
UID:69eb528d6055f
DTSTAMP:20260424T112253Z
DTSTART:20241219T170000Z
DTEND:20241222T170000Z
LOCATION:
SUMMARY:Deutsche Schach-Amateur-Meisterschaft - Qualifikationsturnier 24/25 in Bonn
DESCRIPTION:Deutsche Schach-Amateur-Meisterschaft - Qualifikationsturnier 2
 4/25 in Bonn\nhttps://schachnewsletter-bremen.de/events/dsam-turnier-24-25-
 in-bad-wildungen-copy/
URL:https://schachnewsletter-bremen.de/events/dsam-turnier-24-25-in-bad-wildungen-copy/
END:VEVENT
END:VCALENDAR