BEGIN:VCALENDAR
VERSION:2.0
PRODID:-//eventon.com NONSGML v1.0//EN
CALSCALE:GREGORIAN
METHOD:PUBLISH
BEGIN:VEVENT
UID:69e9f4213ad8f
DTSTAMP:20260423T102745Z
DTSTART:20241226T170000Z
DTEND:20241230T170000Z
LOCATION:
SUMMARY:DVM U12w
DESCRIPTION:DVM U12w\nhttps://schachnewsletter-bremen.de/events/dvm-u12w/
URL:https://schachnewsletter-bremen.de/events/dvm-u12w/
END:VEVENT
END:VCALENDAR