BEGIN:VCALENDAR
VERSION:2.0
PRODID:-//eventon.com NONSGML v1.0//EN
CALSCALE:GREGORIAN
METHOD:PUBLISH
BEGIN:VEVENT
UID:69e740c51680c
DTSTAMP:20260421T091757Z
DTSTART:20241226T170000Z
DTEND:20241230T170000Z
LOCATION:
SUMMARY:DVM U20
DESCRIPTION:DVM U20\nhttps://schachnewsletter-bremen.de/events/dvm-u20/
URL:https://schachnewsletter-bremen.de/events/dvm-u20/
END:VEVENT
END:VCALENDAR