BEGIN:VCALENDAR
VERSION:2.0
PRODID:-//eventon.com NONSGML v1.0//EN
CALSCALE:GREGORIAN
METHOD:PUBLISH
BEGIN:VEVENT
UID:69e8a35b133d7
DTSTAMP:20260422T103051Z
DTSTART:20240722T160000Z
DTEND:20240728T160000Z
LOCATION:
SUMMARY:ØBRO & CXU International 2024 in Copenhagen
DESCRIPTION:ØBRO & CXU International 2024 in Copenhagen\nhttps://schachnew
 sletter-bremen.de/events/obro-cxu-international-2024-in-copenhagen/
URL:https://schachnewsletter-bremen.de/events/obro-cxu-international-2024-in-copenhagen/
END:VEVENT
END:VCALENDAR