BEGIN:VCALENDAR
VERSION:2.0
PRODID:-//eventon.com NONSGML v1.0//EN
CALSCALE:GREGORIAN
METHOD:PUBLISH
BEGIN:VEVENT
UID:69eb8c281d74b
DTSTAMP:20260424T152840Z
DTSTART:20241226T170000Z
DTEND:20241230T170000Z
LOCATION:
SUMMARY:DVM U12
DESCRIPTION:DVM U12\nhttps://schachnewsletter-bremen.de/events/dvm-u12/
URL:https://schachnewsletter-bremen.de/events/dvm-u12/
END:VEVENT
END:VCALENDAR