BEGIN:VCALENDAR
VERSION:2.0
PRODID:-//eventon.com NONSGML v1.0//EN
CALSCALE:GREGORIAN
METHOD:PUBLISH
BEGIN:VEVENT
UID:69e740fe3b022
DTSTAMP:20260421T091854Z
DTSTART:20241226T170000Z
DTEND:20241230T170000Z
LOCATION:
SUMMARY:DVM U16
DESCRIPTION:DVM U16\nhttps://schachnewsletter-bremen.de/events/dvm-u16/
URL:https://schachnewsletter-bremen.de/events/dvm-u16/
END:VEVENT
END:VCALENDAR