BEGIN:VCALENDAR
VERSION:2.0
PRODID:-//eventon.com NONSGML v1.0//EN
CALSCALE:GREGORIAN
METHOD:PUBLISH
BEGIN:VEVENT
UID:69e8b29daaf69
DTSTAMP:20260422T113557Z
DTSTART:20241122T170000Z
DTEND:20241124T190000Z
LOCATION:
SUMMARY:Wieste-Cup in Sottrum
DESCRIPTION:Wieste-Cup in Sottrum\nhttps://schachnewsletter-bremen.de/event
 s/wieste-cup-in-sottrum/
URL:https://schachnewsletter-bremen.de/events/wieste-cup-in-sottrum/
END:VEVENT
END:VCALENDAR