BEGIN:VCALENDAR
VERSION:2.0
PRODID:-//eventon.com NONSGML v1.0//EN
CALSCALE:GREGORIAN
METHOD:PUBLISH
BEGIN:VEVENT
UID:69e86e29be6f0
DTSTAMP:20260422T064353Z
DTSTART:20241013T150000Z
DTEND:20241019T150000Z
LOCATION:
SUMMARY:32. Challengers bis DWZ 1700 in Münster
DESCRIPTION:32. Challengers bis DWZ 1700 in Münster\nhttps://schachnewslet
 ter-bremen.de/events/32-challengers-bis-dwz-1700-in-muenster/
URL:https://schachnewsletter-bremen.de/events/32-challengers-bis-dwz-1700-in-muenster/
END:VEVENT
END:VCALENDAR