BEGIN:VCALENDAR
VERSION:2.0
PRODID:-//eventon.com NONSGML v1.0//EN
CALSCALE:GREGORIAN
METHOD:PUBLISH
BEGIN:VEVENT
UID:69e71b596cb31
DTSTAMP:20260421T063817Z
DTSTART:20241213T173000Z
DTEND:20241215T180000Z
LOCATION:
SUMMARY:5. Kieler Wochenendturnier
DESCRIPTION:5. Kieler Wochenendturnier\nhttps://schachnewsletter-bremen.de/
 events/5-kieler-wochenendturnier/
URL:https://schachnewsletter-bremen.de/events/5-kieler-wochenendturnier/
END:VEVENT
END:VCALENDAR