BEGIN:VCALENDAR
VERSION:2.0
PRODID:-//eventon.com NONSGML v1.0//EN
CALSCALE:GREGORIAN
METHOD:PUBLISH
BEGIN:VEVENT
UID:69eb902c35813
DTSTAMP:20260424T154548Z
DTSTART:20250303T150000Z
DTEND:20250308T150000Z
LOCATION:
SUMMARY:2. Internationales Schach - Open Graal -Müritz
DESCRIPTION:2. Internationales Schach - Open Graal -Müritz\nhttps://schach
 newsletter-bremen.de/events/2-internationales-schach-open-graal-mueritz/
URL:https://schachnewsletter-bremen.de/events/2-internationales-schach-open-graal-mueritz/
END:VEVENT
END:VCALENDAR