BEGIN:VCALENDAR
VERSION:2.0
PRODID:-//eventon.com NONSGML v1.0//EN
CALSCALE:GREGORIAN
METHOD:PUBLISH
BEGIN:VEVENT
UID:69e744f3527d2
DTSTAMP:20260421T093547Z
DTSTART:20241012T110000Z
DTEND:20241013T140000Z
LOCATION:
SUMMARY:Deutsche Schnellschach-Einzelmeisterschaft der Frauen 2024 in Bielefeld
DESCRIPTION:Deutsche Schnellschach-Einzelmeisterschaft der Frauen 2024 in B
 ielefeld\nhttps://schachnewsletter-bremen.de/events/deutsche-schnellschach-
 einzelmeisterschaft-der-frauen-2024-in-bielefeld/
URL:https://schachnewsletter-bremen.de/events/deutsche-schnellschach-einzelmeisterschaft-der-frauen-2024-in-bielefeld/
END:VEVENT
END:VCALENDAR