BEGIN:VCALENDAR
VERSION:2.0
PRODID:-//eventon.com NONSGML v1.0//EN
CALSCALE:GREGORIAN
METHOD:PUBLISH
BEGIN:VEVENT
UID:69e744cd6d7ef
DTSTAMP:20260421T093509Z
DTSTART:20250501T130000Z
DTEND:20250504T130000Z
LOCATION:
SUMMARY:Deutsche Schulschachmeisterschaft WK III (U15) in Aurich
DESCRIPTION:Deutsche Schulschachmeisterschaft WK III (U15) in Aurich\nhttps
 ://schachnewsletter-bremen.de/events/deutsche-schulschachmeisterschaft-wk-i
 ii-u15-in-aurich/
URL:https://schachnewsletter-bremen.de/events/deutsche-schulschachmeisterschaft-wk-iii-u15-in-aurich/
END:VEVENT
END:VCALENDAR