BEGIN:VCALENDAR
VERSION:2.0
PRODID:-//eventon.com NONSGML v1.0//EN
CALSCALE:GREGORIAN
METHOD:PUBLISH
BEGIN:VEVENT
UID:69e7419e7a4b0
DTSTAMP:20260421T092134Z
DTSTART:20250405T080000Z
DTEND:20250408T140000Z
LOCATION:
SUMMARY:Bremer Jugend-Einzelmeisterschaften 2025
DESCRIPTION:Bremer Jugend-Einzelmeisterschaften 2025\nhttps://schachnewslet
 ter-bremen.de/events/bremer-jugend-einzelmeisterschaften/
URL:https://schachnewsletter-bremen.de/events/bremer-jugend-einzelmeisterschaften/
END:VEVENT
END:VCALENDAR