BEGIN:VCALENDAR
VERSION:2.0
PRODID:-//eventon.com NONSGML v1.0//EN
CALSCALE:GREGORIAN
METHOD:PUBLISH
BEGIN:VEVENT
UID:69e740a2d5eae
DTSTAMP:20260421T091722Z
DTSTART:20240606T171500Z
DTEND:20240606T200000Z
LOCATION:
SUMMARY:Werder Monatsblitz
DESCRIPTION:Werder Monatsblitz\nhttps://schachnewsletter-bremen.de/events/w
 erder-monatsblitz-6/
URL:https://schachnewsletter-bremen.de/events/werder-monatsblitz-6/
END:VEVENT
END:VCALENDAR