BEGIN:VCALENDAR
VERSION:2.0
PRODID:-//eventon.com NONSGML v1.0//EN
CALSCALE:GREGORIAN
METHOD:PUBLISH
BEGIN:VEVENT
UID:69e589fe359ea
DTSTAMP:20260420T020550Z
DTSTART:20241020T073000Z
DTEND:20241020T160000Z
LOCATION:
SUMMARY:TuS Varrel Quickstep
DESCRIPTION:TuS Varrel Quickstep\nhttps://schachnewsletter-bremen.de/events
 /tus-varrel-quickstep/
URL:https://schachnewsletter-bremen.de/events/tus-varrel-quickstep/
END:VEVENT
END:VCALENDAR