BEGIN:VCALENDAR
VERSION:2.0
PRODID:-//eventon.com NONSGML v1.0//EN
CALSCALE:GREGORIAN
METHOD:PUBLISH
BEGIN:VEVENT
UID:69ebfb87176a9
DTSTAMP:20260424T232351Z
DTSTART:20241116T090000Z
DTEND:20241116T160000Z
LOCATION:
SUMMARY:Jugendserie in Lembruch
DESCRIPTION:Jugendserie in Lembruch\nhttps://schachnewsletter-bremen.de/eve
 nts/jugendserie-in-lembruch/
URL:https://schachnewsletter-bremen.de/events/jugendserie-in-lembruch/
END:VEVENT
END:VCALENDAR