BEGIN:VCALENDAR
VERSION:2.0
PRODID:-//eventon.com NONSGML v1.0//EN
CALSCALE:GREGORIAN
METHOD:PUBLISH
BEGIN:VEVENT
UID:69e89f830ce6b
DTSTAMP:20260422T101427Z
DTSTART:20250301T090000Z
DTEND:20250301T160000Z
LOCATION:
SUMMARY:Jugendserie in Goslar
DESCRIPTION:Jugendserie in Goslar\nhttps://schachnewsletter-bremen.de/event
 s/jugendserie-in-goslar/
URL:https://schachnewsletter-bremen.de/events/jugendserie-in-goslar/
END:VEVENT
END:VCALENDAR