BEGIN:VCALENDAR
VERSION:2.0
PRODID:-//eventon.com NONSGML v1.0//EN
CALSCALE:GREGORIAN
METHOD:PUBLISH
BEGIN:VEVENT
UID:69e89c99e8a52
DTSTAMP:20260422T100201Z
DTSTART:20241026T120000Z
DTEND:20241026T143000Z
LOCATION:
SUMMARY:4-Jahreszeiten-Turnier - Lichess
DESCRIPTION:4-Jahreszeiten-Turnier - Lichess\nhttps://schachnewsletter-brem
 en.de/events/4-jahreszeiten-turnier-lichess-3/
URL:https://schachnewsletter-bremen.de/events/4-jahreszeiten-turnier-lichess-3/
END:VEVENT
END:VCALENDAR