BEGIN:VCALENDAR
VERSION:2.0
PRODID:-//eventon.com NONSGML v1.0//EN
CALSCALE:GREGORIAN
METHOD:PUBLISH
BEGIN:VEVENT
UID:69e7408292b73
DTSTAMP:20260421T091650Z
DTSTART:20241207T090000Z
DTEND:20241208T160000Z
LOCATION:
SUMMARY:106. Sekt oder Selters Turnier in Hamburg
DESCRIPTION:106. Sekt oder Selters Turnier in Hamburg\nhttps://schachnewsle
 tter-bremen.de/events/106-sekt-oder-selters-turnier-in-hamburg/
URL:https://schachnewsletter-bremen.de/events/106-sekt-oder-selters-turnier-in-hamburg/
END:VEVENT
END:VCALENDAR