BEGIN:VCALENDAR
VERSION:2.0
PRODID:-//eventon.com NONSGML v1.0//EN
CALSCALE:GREGORIAN
METHOD:PUBLISH
BEGIN:VEVENT
UID:69e74934d3cf3
DTSTAMP:20260421T095356Z
DTSTART:20241117T100000Z
DTEND:20241117T160000Z
LOCATION:
SUMMARY:Offene Ostfrieslandmeisterschaft im Blitzschach in Emden
DESCRIPTION:Offene Ostfrieslandmeisterschaft im Blitzschach in Emden\nhttps
 ://schachnewsletter-bremen.de/events/offene-ostfrieslandmeisterschaft-im-bl
 itzschach-in-emden/
URL:https://schachnewsletter-bremen.de/events/offene-ostfrieslandmeisterschaft-im-blitzschach-in-emden/
END:VEVENT
END:VCALENDAR