BEGIN:VCALENDAR
VERSION:2.0
PRODID:-//eventon.com NONSGML v1.0//EN
CALSCALE:GREGORIAN
METHOD:PUBLISH
BEGIN:VEVENT
UID:69ebbf9002c6b
DTSTAMP:20260424T190800Z
DTSTART:20251003T070000Z
DTEND:20251005T150000Z
LOCATION:
SUMMARY:1. Itzehoer Chess-Cup
DESCRIPTION:1. Itzehoer Chess-Cup\nhttps://schachnewsletter-bremen.de/event
 s/1-itzehoer-chess-cup/
URL:https://schachnewsletter-bremen.de/events/1-itzehoer-chess-cup/
END:VEVENT
END:VCALENDAR