BEGIN:VCALENDAR
VERSION:2.0
PRODID:-//eventon.com NONSGML v1.0//EN
CALSCALE:GREGORIAN
METHOD:PUBLISH
BEGIN:VEVENT
UID:69e89f234afc2
DTSTAMP:20260422T101251Z
DTSTART:20250106T140000Z
DTEND:20250110T150000Z
LOCATION:
SUMMARY:5. Berlin Mitte - Neujahrs-Open
DESCRIPTION:5. Berlin Mitte - Neujahrs-Open\nhttps://schachnewsletter-breme
 n.de/events/5-berlin-mitte-neujahrs-open/
URL:https://schachnewsletter-bremen.de/events/5-berlin-mitte-neujahrs-open/
END:VEVENT
END:VCALENDAR