BEGIN:VCALENDAR
VERSION:2.0
PRODID:-//eventon.com NONSGML v1.0//EN
CALSCALE:GREGORIAN
METHOD:PUBLISH
BEGIN:VEVENT
UID:69e89fd66e257
DTSTAMP:20260422T101550Z
DTSTART:20250207T083000Z
DTEND:20250209T140000Z
LOCATION:
SUMMARY:8. Chessence Open in Willingen
DESCRIPTION:8. Chessence Open in Willingen\nhttps://schachnewsletter-bremen
 .de/events/8-chessence-open-in-willingen/
URL:https://schachnewsletter-bremen.de/events/8-chessence-open-in-willingen/
END:VEVENT
END:VCALENDAR