BEGIN:VCALENDAR
VERSION:2.0
PRODID:-//eventon.com NONSGML v1.0//EN
CALSCALE:GREGORIAN
METHOD:PUBLISH
BEGIN:VEVENT
UID:69ec1d2e7777f
DTSTAMP:20260425T014726Z
DTSTART:20241215T100000Z
DTEND:20241215T180000Z
LOCATION:
SUMMARY:Adventsturnier der Grand-Prix-Serie 2024 in Neumünster
DESCRIPTION:Adventsturnier der Grand-Prix-Serie 2024 in Neumünster\nhttps:
 //schachnewsletter-bremen.de/events/adventsturnier-der-grand-prix-serie-202
 4-in-neumuenster/
URL:https://schachnewsletter-bremen.de/events/adventsturnier-der-grand-prix-serie-2024-in-neumuenster/
END:VEVENT
END:VCALENDAR