BEGIN:VCALENDAR
VERSION:2.0
PRODID:-//eventon.com NONSGML v1.0//EN
CALSCALE:GREGORIAN
METHOD:PUBLISH
BEGIN:VEVENT
UID:69e7413b92df3
DTSTAMP:20260421T091955Z
DTSTART:20251023T073000Z
DTEND:20251026T143000Z
LOCATION:
SUMMARY:30. Magdeburger Open
DESCRIPTION:30. Magdeburger Open\nhttps://schachnewsletter-bremen.de/events
 /30-magdeburger-open-save-the-date/
URL:https://schachnewsletter-bremen.de/events/30-magdeburger-open-save-the-date/
END:VEVENT
END:VCALENDAR