BEGIN:VCALENDAR
VERSION:2.0
PRODID:-//eventon.com NONSGML v1.0//EN
CALSCALE:GREGORIAN
METHOD:PUBLISH
BEGIN:VEVENT
UID:69e746660d1f2
DTSTAMP:20260421T094158Z
DTSTART:20250417T171500Z
DTEND:20250417T213000Z
LOCATION:
SUMMARY:Niedersächsische Frauenblitzeinzelmeisterschaft 2025
DESCRIPTION:Niedersächsische Frauenblitzeinzelmeisterschaft 2025\nhttps://
 schachnewsletter-bremen.de/events/niedersaechsische-frauenblitzeinzelmeiste
 rschaft-2025/
URL:https://schachnewsletter-bremen.de/events/niedersaechsische-frauenblitzeinzelmeisterschaft-2025/
END:VEVENT
END:VCALENDAR