BEGIN:VCALENDAR
VERSION:2.0
PRODID:-//eventon.com NONSGML v1.0//EN
CALSCALE:GREGORIAN
METHOD:PUBLISH
BEGIN:VEVENT
UID:69e740e351339
DTSTAMP:20260421T091827Z
DTSTART:20250501T090000Z
DTEND:20250501T123000Z
LOCATION:
SUMMARY:Niedersächsische Frauenschnellschachmeisterschaft 2025
DESCRIPTION:Niedersächsische Frauenschnellschachmeisterschaft 2025\nhttps:
 //schachnewsletter-bremen.de/events/niedersaechsische-frauenschnellschachme
 isterschaft-2025/
URL:https://schachnewsletter-bremen.de/events/niedersaechsische-frauenschnellschachmeisterschaft-2025/
END:VEVENT
END:VCALENDAR